BEGIN:VCALENDAR
VERSION:2.0
PRODID:-//Braxton College - ECPv6.0.1//NONSGML v1.0//EN
CALSCALE:GREGORIAN
METHOD:PUBLISH
X-WR-CALNAME:Braxton College
X-ORIGINAL-URL:https://braxton.edu
X-WR-CALDESC:Events for Braxton College
REFRESH-INTERVAL;VALUE=DURATION:PT1H
X-Robots-Tag:noindex
X-PUBLISHED-TTL:PT1H
BEGIN:VTIMEZONE
TZID:UTC
BEGIN:STANDARD
TZOFFSETFROM:+0000
TZOFFSETTO:+0000
TZNAME:UTC
DTSTART:20260101T000000
END:STANDARD
END:VTIMEZONE
BEGIN:VEVENT
DTSTART;VALUE=DATE:20260106
DTEND;VALUE=DATE:20260425
DTSTAMP:20260421T001702
CREATED:20250403T203413Z
LAST-MODIFIED:20260224T174643Z
UID:7467-1767657600-1777075199@braxton.edu
SUMMARY:EMT Night Spring 2026 (Tuesday\, Wednesdays\, and Thursdays)
DESCRIPTION:Start date: January 6th\, 2026 at 5pm\n\n\n 
URL:https://braxton.edu/event/emt-night-class-spring-semsester/
LOCATION:Braxton College\, 2070 Carrell Rd\, Fort Myers\, FL\, 33901\, United States
CATEGORIES:EMT-Basic Programs
ATTACH;FMTTYPE=image/jpeg:https://braxton.edu/wp-content/uploads/2025/04/Spring-2026-Night-109-1-scaled.jpg
ORGANIZER;CN="William%20McGrath":MAILTO:wmcgrath@braxton.edu
END:VEVENT
END:VCALENDAR