BEGIN:VCALENDAR
VERSION:2.0
PRODID:-//Braxton College - ECPv6.0.1//NONSGML v1.0//EN
CALSCALE:GREGORIAN
METHOD:PUBLISH
X-WR-CALNAME:Braxton College
X-ORIGINAL-URL:https://braxton.edu
X-WR-CALDESC:Events for Braxton College
REFRESH-INTERVAL;VALUE=DURATION:PT1H
X-Robots-Tag:noindex
X-PUBLISHED-TTL:PT1H
BEGIN:VTIMEZONE
TZID:UTC
BEGIN:STANDARD
TZOFFSETFROM:+0000
TZOFFSETTO:+0000
TZNAME:UTC
DTSTART:20240101T000000
END:STANDARD
END:VTIMEZONE
BEGIN:VEVENT
DTSTART;TZID=UTC:20240108T080000
DTEND;TZID=UTC:20240108T080000
DTSTAMP:20260419T143205
CREATED:20231211T044042Z
LAST-MODIFIED:20231218T223518Z
UID:7099-1704700800-1704700800@braxton.edu
SUMMARY:ASFS - AS in Fire Science Technology  2024
DESCRIPTION:Register Now for your AS Degree in EMS or Fire Science Technology. Please contact our office to review your official transcripts and create a pathway to your success.
URL:https://braxton.edu/event/as-degree-cohort-start-summer-2021/
CATEGORIES:Fire Officer,Undergraduate Degree Programs
ATTACH;FMTTYPE=image/jpeg:https://braxton.edu/wp-content/uploads/2018/08/slider-hp2-2.jpg
END:VEVENT
END:VCALENDAR