BEGIN:VCALENDAR
VERSION:2.0
PRODID:-//Braxton College - ECPv6.0.1//NONSGML v1.0//EN
CALSCALE:GREGORIAN
METHOD:PUBLISH
X-WR-CALNAME:Braxton College
X-ORIGINAL-URL:https://braxton.edu
X-WR-CALDESC:Events for Braxton College
REFRESH-INTERVAL;VALUE=DURATION:PT1H
X-Robots-Tag:noindex
X-PUBLISHED-TTL:PT1H
BEGIN:VTIMEZONE
TZID:UTC
BEGIN:STANDARD
TZOFFSETFROM:+0000
TZOFFSETTO:+0000
TZNAME:UTC
DTSTART:20260101T000000
END:STANDARD
END:VTIMEZONE
BEGIN:VEVENT
DTSTART;TZID=UTC:20260407T090000
DTEND;TZID=UTC:20270427T170000
DTSTAMP:20260420T124542
CREATED:20231215T124251Z
LAST-MODIFIED:20260224T173026Z
UID:7560-1775552400-1808845200@braxton.edu
SUMMARY:Paramedic Lee County EMS Class (Closed Class)
DESCRIPTION:Paramedic A Shift Class \n(Shift as outlined following Lee County EMS.) \nThe program schedule includes ACLS\, PALS\, PHTLS\, and AMLS courses\, all of which are fully incorporated into the overall program timeline and curriculum. \nIn-Class Start: April 7th\, 2026 \n  \nAll Internship and Capstone hours will be scheduled outside of regular class days.
URL:https://braxton.edu/event/paramedic-lcems-2026/
LOCATION:Braxton College\, 2070 Carrell Rd\, Fort Myers\, FL\, 33901\, United States
CATEGORIES:EMT-Paramedic Programs
ORGANIZER;CN="Megan%20Davis":MAILTO:mdavis@braxton.edu
END:VEVENT
BEGIN:VEVENT
DTSTART;TZID=UTC:20260512T090000
DTEND;TZID=UTC:20270513T180000
DTSTAMP:20260420T124542
CREATED:20241018T003801Z
LAST-MODIFIED:20260224T174354Z
UID:7554-1778576400-1810231200@braxton.edu
SUMMARY:Paramedic "C Shift" Class\, May 2026-2027  (Enroll Today)
DESCRIPTION:Paramedic C Shift Class \n(Shift as outlined following Lee County.) \nThe program schedule includes ACLS\, PALS\, PHTLS\, and AMLS courses\, all of which are fully incorporated into the overall program timeline and curriculum. \nStart: May 12th\, 2026 at 9am \nEnd: May 13th\, 2027 \n\nAll internship and Capstone hours will be scheduled outside of regular class days.
URL:https://braxton.edu/event/paramedic-tuesday-only-summer-semester/
LOCATION:Braxton College\, 2070 Carrell Rd\, Fort Myers\, FL\, 33901\, United States
CATEGORIES:EMT-Paramedic Programs
ATTACH;FMTTYPE=image/jpeg:https://braxton.edu/wp-content/uploads/2024/10/P56-Medic-C-Shift-2026-2027.jpg
ORGANIZER;CN="Megan%20Davis":MAILTO:mdavis@braxton.edu
END:VEVENT
END:VCALENDAR